BEGIN:VCALENDAR
VERSION:2.0
PRODID:-//Monein - ECPv5.8.1//NONSGML v1.0//EN
CALSCALE:GREGORIAN
METHOD:PUBLISH
X-WR-CALNAME:Monein
X-ORIGINAL-URL:https://www.monein.fr
X-WR-CALDESC:Events for Monein
BEGIN:VTIMEZONE
TZID:Europe/Paris
BEGIN:DAYLIGHT
TZOFFSETFROM:+0100
TZOFFSETTO:+0200
TZNAME:CEST
DTSTART:20230326T010000
END:DAYLIGHT
BEGIN:STANDARD
TZOFFSETFROM:+0200
TZOFFSETTO:+0100
TZNAME:CET
DTSTART:20231029T010000
END:STANDARD
END:VTIMEZONE
BEGIN:VEVENT
DTSTART;TZID=Europe/Paris:20230624T120000
DTEND;TZID=Europe/Paris:20230624T120000
DTSTAMP:20260419T142305
CREATED:20230523T063052Z
LAST-MODIFIED:20230523T120018Z
UID:8295-1687608000-1687608000@www.monein.fr
SUMMARY:Repas du quatier Trouilh
DESCRIPTION:Repas du quartier Trouilh > Sous le chêne habituel (En cas de pluie et suivant le nombre > repli à la ferme Barrere) \nLe repas du quartier trouilh existe depuis 1990 et permet au habitants de se retrouver pour passer un moment convivial\, accueillir tous les nouveaux arrivants et retrouver ceux ayant vécus au quartier. \nPrix/personne : 12€ – Gratuit pour les enfants de moins de 10 ans. \nMenu : paëlla concoctée par Santagio et ses supers Marmitons – Fromage de brebis – Vins – Bière pression –  Jus de fruits – Café \nChacun peut apporter quelque chose pour l’apéritif (biscuits\, quiche…) et/ou le dessert. \nJeux pour petits et grands (cartes\, pétanque\, ping-pong)\, musique… \nInfos & inscriptions avant le 1er juin 2023 : \n\nPierre CHAHON : 06.31.61.04.51\nPatrice GANCHOU : 06.09.17.10.57\nFabien LAPORTE-FRAY : 06.87.61.03.51\nMarie-Claude DIEZ : 06.72.81.79.72
URL:https://www.monein.fr/evenement/repas-du-quatier-candeloup/
CATEGORIES:Divers
ATTACH;FMTTYPE=image/jpeg:https://www.monein.fr/wp-content/uploads/2022/09/REPASTROUILH.jpg
END:VEVENT
END:VCALENDAR