BEGIN:VCALENDAR
VERSION:2.0
PRODID:-//Monein - ECPv5.8.1//NONSGML v1.0//EN
CALSCALE:GREGORIAN
METHOD:PUBLISH
X-WR-CALNAME:Monein
X-ORIGINAL-URL:https://www.monein.fr
X-WR-CALDESC:Events for Monein
BEGIN:VTIMEZONE
TZID:Europe/Paris
BEGIN:DAYLIGHT
TZOFFSETFROM:+0100
TZOFFSETTO:+0200
TZNAME:CEST
DTSTART:20230326T010000
END:DAYLIGHT
BEGIN:STANDARD
TZOFFSETFROM:+0200
TZOFFSETTO:+0100
TZNAME:CET
DTSTART:20231029T010000
END:STANDARD
END:VTIMEZONE
BEGIN:VEVENT
DTSTART;TZID=Europe/Paris:20230224T083000
DTEND;TZID=Europe/Paris:20230224T100000
DTSTAMP:20260419T204630
CREATED:20230215T164732Z
LAST-MODIFIED:20230221T085331Z
UID:9706-1677227400-1677232800@www.monein.fr
SUMMARY:Animation économique
DESCRIPTION:Dans un contexte tendu où les consommations énergétiques vont impacter le résultat de vos entreprises\, la sobriété énergétique est au cœur de vos préoccupations. Venez découvrir comment l’énergie électrique chemine de sa production vers l’utilisateur final et quels sont vos leviers pour optimiser vos installations. \nAnimé par Dominique CANDAES\, Flux Générator \nPour vous inscrire\, contacter le 05 59 59 53 99 – Réseau de Pépinières d’entreprises de la CCLO.
URL:https://www.monein.fr/evenement/animation-economique/2023-02-24/
CATEGORIES:Divers
ATTACH;FMTTYPE=image/png:https://www.monein.fr/wp-content/uploads/2023/02/logocclo.png
END:VEVENT
END:VCALENDAR