BEGIN:VCALENDAR
VERSION:2.0
PRODID:-//Monein - ECPv5.8.1//NONSGML v1.0//EN
CALSCALE:GREGORIAN
METHOD:PUBLISH
X-WR-CALNAME:Monein
X-ORIGINAL-URL:https://www.monein.fr
X-WR-CALDESC:Events for Monein
BEGIN:VTIMEZONE
TZID:Europe/Paris
BEGIN:DAYLIGHT
TZOFFSETFROM:+0100
TZOFFSETTO:+0200
TZNAME:CEST
DTSTART:20260329T010000
END:DAYLIGHT
BEGIN:STANDARD
TZOFFSETFROM:+0200
TZOFFSETTO:+0100
TZNAME:CET
DTSTART:20261025T010000
END:STANDARD
END:VTIMEZONE
BEGIN:VEVENT
DTSTART;VALUE=DATE:20260207
DTEND;VALUE=DATE:20260208
DTSTAMP:20260421T122207
CREATED:20260129T110047Z
LAST-MODIFIED:20260129T110315Z
UID:14945-1770422400-1770508799@www.monein.fr
SUMMARY:SAM > Repas cochonnaille
DESCRIPTION:15h30 : Match de championnat R2 SA Monein vs US Nafarroa \nEn soirée : Troisième mi-temps (avec les joueurs) suivie du repas cochonnaille \nMenu (20€) : Saucisse\, boudin\, rôti\, purée / Tarte normande / Vin / Café\nEnfant (jusqu’à 12 ans) : 10€ \nRenseignements & inscriptions au 06 74 63 01 35
URL:https://www.monein.fr/evenement/sam-repas-cochonnaille/
LOCATION:Salle d’Accueil et de Rencontre « Maurice Bahurlet »\, 18 chemin de La Lannes\, MONEIN\, 64360\, France
CATEGORIES:Vie associative
ATTACH;FMTTYPE=image/jpeg:https://www.monein.fr/wp-content/uploads/2021/07/s-a-monein-rugby.jpeg
END:VEVENT
END:VCALENDAR